BEGIN:VCALENDAR
VERSION:2.0
PRODID:icalendar-ruby
CALSCALE:GREGORIAN
METHOD:PUBLISH
BEGIN:VEVENT
DTSTAMP:20260422T114447Z
UID:5-1377372@highwaychurch.co
DTSTART:20261101T013000Z
DTEND:20261101T023000Z
CLASS:PUBLIC
CREATED:20260422T201707
DESCRIPTION:Sunday Worship
LAST-MODIFIED:20260422T201707
LOCATION:
SUMMARY:Sunday Worship
URL;VALUE=URI:https://www.highwaychurch.co/events/sunday-worship/2026-11-01
END:VEVENT
END:VCALENDAR
