BEGIN:VCALENDAR
VERSION:2.0
PRODID:icalendar-ruby
CALSCALE:GREGORIAN
METHOD:PUBLISH
BEGIN:VEVENT
DTSTAMP:20260422T013856Z
UID:5-1376641@highwaychurch.co
DTSTART:20260920T023000Z
DTEND:20260920T033000Z
CLASS:PUBLIC
CREATED:20260422T091922
DESCRIPTION:Sunday Worship
LAST-MODIFIED:20260422T091922
LOCATION:
SUMMARY:Sunday Worship
URL;VALUE=URI:https://www.highwaychurch.co/events/sunday-worship/2026-09-20
END:VEVENT
END:VCALENDAR
