BEGIN:VCALENDAR
VERSION:2.0
PRODID:icalendar-ruby
CALSCALE:GREGORIAN
METHOD:PUBLISH
BEGIN:VEVENT
DTSTAMP:20260423T221549Z
UID:3-1383516@highwaychurch.co
DTSTART:20261017T233000Z
DTEND:20261017T233000Z
CLASS:PUBLIC
CREATED:20260424T050240
DESCRIPTION:Services are held every Sunday at Highway Church\, 1A North Ter
 race\, Bordertown. We'd love to have you join us in person. 
LAST-MODIFIED:20260424T050240
LOCATION:Highway Church
SUMMARY:Sunday Worship Service
URL;VALUE=URI:https://www.highwaychurch.co/events/sunday-worship-service/20
 26-10-18
ATTACH;FILENAME=IMG_7482.JPG;FMTTYPE=image/jpeg:https://dq5pwpg1q8ru0.cloud
 front.net/2020/02/28/21/12/59/775b4b75-5d3c-48cc-8141-47e7c5698dc3/IMG_748
 2.JPG
END:VEVENT
END:VCALENDAR
