BEGIN:VCALENDAR
VERSION:2.0
PRODID:icalendar-ruby
CALSCALE:GREGORIAN
METHOD:PUBLISH
BEGIN:VEVENT
DTSTAMP:20260423T153341Z
UID:3-1382062@highwaychurch.co
DTSTART:20260920T003000Z
DTEND:20260920T003000Z
CLASS:PUBLIC
CREATED:20260423T231228
DESCRIPTION:Services are held every Sunday at Highway Church\, 1A North Ter
 race\, Bordertown. We'd love to have you join us in person. 
LAST-MODIFIED:20260423T231228
LOCATION:Highway Church
SUMMARY:Sunday Worship Service
URL;VALUE=URI:https://www.highwaychurch.co/events/sunday-worship-service/20
 26-09-20
ATTACH;FILENAME=IMG_7482.JPG;FMTTYPE=image/jpeg:https://dq5pwpg1q8ru0.cloud
 front.net/2020/02/28/21/12/59/775b4b75-5d3c-48cc-8141-47e7c5698dc3/IMG_748
 2.JPG
END:VEVENT
END:VCALENDAR
